BEGIN:VCALENDAR
VERSION:2.0
PRODID:-//wp-events-plugin.com//7.2.3.1//EN
TZID:Europe/Copenhagen
X-WR-TIMEZONE:Europe/Copenhagen
BEGIN:VEVENT
UID:129@isikkerhed.dk
DTSTART;TZID=Europe/Copenhagen:20261005T080000
DTEND;TZID=Europe/Copenhagen:20261007T170000
DTSTAMP:20250906T111420Z
URL:https://www.isikkerhed.dk/kursus/adr-sikkerhedsraadgiver-repetitionsku
 rsus-13/
SUMMARY:ADR-sikkerhedsrådgiver repetitionskursus
DESCRIPTION:Kursusindhold\nDette kursus er til dig\, som er eksamineret sik
 kerhedsrådgiver\, og ønsker den bedste forberedelse før du skal op til 
 ADR-sikkerhedsrådgiver repetitionseksamenen. Vi genopfrisker ADR konventi
 onen\, de nationale bestemmelser herunder sikkerhedsrådgiverbekendtgørel
 sen\, og gennemgår eksamensbestemmelserne\, så du efter kurset er bedre 
 rustet til at bestå eksamen.\nForudsætninger\nKurset kræver indgående 
 kendskab til ADR-bestemmelserne\, og det er endvidere en forudsætning for
  deltagelse i repetitionseksamen\, at du har et gyldigt sikkerhedsrådgive
 rbevis.\nPris\nPrisen inkluderer alt kursusmateriale med undtagelse af ADR
 -konventionen\, der kan tilkøbes.\nBemærk\, at prisen ikke inkluderer ek
 samenstilmelding eller overnatning. Giv besked\, hvis du ønsker overnatni
 ng på hotellet\, så ordner vi det.\nVarighed\nKurset er et intensivt tre
 dages kursus.\nDeltagerantal\nMaksimalt deltagerantal per kursus er 12 per
 soner.\nUndervisning\nDu bliver undervist af Torkil Hansen &amp\; Martin E
 geskov Pedersen.\nVi har indført mindste-normering\, så der altid vil v
 ære mindst én 'pædagog' for hver 6 kursister.\nUndervisningen er en bla
 nding af oplæg og opgaveløsning. Vi gennemgår de seneste regelændringe
 r\, og der er mulighed for virkelighedstro ekstraopgaver både under og ef
 ter kurset.\nOvernatning\nDer er mulighed for overnatning med morgenmad og
  middag på hotellet. Hvis du ønsker det\, kan vi enten booke det for dig
  (skriv da i kommentarfeltet ved tilmelding\, hvilke nætter du ønsker og
  om det skal være med middag eller kun med morgenmad. Alternativt kan du 
 bare kontakte os efterfølgende\, hvis vi skal sørge for at booke det. Pr
 isen er omkring 925\,- per overnatning inkl. morgenmad og middag) eller se
 lv arrangere det.\nEksamen\nKursusprisen inkluderer IKKE tilmelding til Be
 redskabsstyrelsens eksamen! Det sørger du selv for - kontakt os gerne\, h
 vis du ønsker hjælp hertil.\nForretningsbetingelser\nKursusdeltagelse p
 å åbne kurser kan afbestilles omkostningsfrit indtil 6 uger før planlag
 t kursusstart. Ved afbestilling senere end 6 uger før afholdelse betales 
 50 % af det for kurset fastsatte deltagergebyr. Ved afbestilling senere en
 d 2 uger før afholdelse betales 100 % af det for kurset fastsatte deltage
 rgebyr. Dog ydes der i sidstnævnte tilfælde 50 % rabat på genbestilling
  af det næstfølgende kursus af samme type og for samme deltager. Ved ude
 blivelse fra kurset betales 100 % af det for kurset fastsatte deltagergeby
 r.
ATTACH;FMTTYPE=image/jpeg:https://www.isikkerhed.dk/wp-content/uploads/201
 7/03/raadgivning-sikkerhedsraadgiver-1280x500.jpg
CATEGORIES:Sikkerhedsrådgiver (ADR)
LOCATION:Vejle\, Willy Sørensens Plads 3\, Vejle\, 7100\, Denmark
GEO:55.705734;9.518906
X-APPLE-STRUCTURED-LOCATION;VALUE=URI;X-ADDRESS=Willy Sørensens Plads 3\, 
 Vejle\, 7100\, Denmark;X-APPLE-RADIUS=100;X-TITLE=Vejle:geo:55.705734,9.51
 8906
END:VEVENT
BEGIN:VTIMEZONE
TZID:Europe/Copenhagen
X-LIC-LOCATION:Europe/Copenhagen
BEGIN:DAYLIGHT
DTSTART:20260329T030000
TZOFFSETFROM:+0100
TZOFFSETTO:+0200
TZNAME:CEST
END:DAYLIGHT
END:VTIMEZONE
END:VCALENDAR