BEGIN:VCALENDAR
VERSION:2.0
PRODID:-//wp-events-plugin.com//7.2.3.1//EN
TZID:Europe/Copenhagen
X-WR-TIMEZONE:Europe/Copenhagen
BEGIN:VEVENT
UID:103@isikkerhed.dk
DTSTART;TZID=Europe/Copenhagen:20231120T080000
DTEND;TZID=Europe/Copenhagen:20231124T160000
DTSTAMP:20230407T093735Z
URL:https://www.isikkerhed.dk/kursus/adr-sikkerhedsraadgiver-basiskursus-5
 /
SUMMARY:ADR-sikkerhedsrådgiver basiskursus
DESCRIPTION:Kursusindhold\nDette kursus er til dig\, som endnu ikke er eksa
 mineret sikkerhedsrådgiver\, men ønsker den bedste forberedelse før du 
 skal op til ADR-sikkerhedsrådgivereksamenen. Vi gennemgår ADR-konvention
 en\, de nationale bestemmelser herunder sikkerhedsrådgiverbekendtgørelse
 n\, og alle eksamensbestemmelserne\, så du efter kurset er bedre rustet t
 il at bestå eksamen. \nForudsætninger\nKurset kræver godt kendskab til 
 ADR-bestemmelserne\, og du skal være forberedt på nogle meget intensive 
 og teoretiske kursusdage!\nPris\nPrisen inkluderer alt kursusmateriale med
  undtagelse af ADR-konventionen\, der kan tilkøbes.\nBemærk\, at prisen 
 ikke inkluderer eksamenstilmelding eller overnatning. Giv besked\, hvis du
  ønsker overnatning på hotellet\, så ordner vi det.\nVarighed\nKurset e
 r et intensivt 5-dages kursus.\nDeltagerantal\nMaksimalt deltagerantal per
  kursus er 12 personer.\nUndervisning\nDu bliver undervist af Torkil Hanse
 n & Martin Egeskov Pedersen. \nVi har indført mindste-normering\, så der
  altid vil være mindst én 'pædagog' for hver 6 kursister.\nUndervisning
 en er en blanding af oplæg og opgaveløsning. Vi gennemgår de seneste re
 gelændringer\, og der er mulighed for virkelighedstro ekstraopgaver både
  under og efter kurset. \nOvernatning\nDer er mulighed for overnatning på
  hotellet - Vejle Center Hotel kører normalt tilbud på 'håndværkerover
 natning' inkl. middag for 799\,- men kontakt os eller hotellet for endelig
 t tilbud. \nEksamen\nKursusprisen inkluderer IKKE tilmelding til Beredskab
 sstyrelsens eksamen!
CATEGORIES:Sikkerhedsrådgiver (ADR)
LOCATION:Vejle\, Willy Sørensens Plads 3\, Vejle\, 7100\, Denmark
GEO:55.705734;9.518906
X-APPLE-STRUCTURED-LOCATION;VALUE=URI;X-ADDRESS=Willy Sørensens Plads 3\, 
 Vejle\, 7100\, Denmark;X-APPLE-RADIUS=100;X-TITLE=Vejle:geo:55.705734,9.51
 8906
END:VEVENT
BEGIN:VTIMEZONE
TZID:Europe/Copenhagen
X-LIC-LOCATION:Europe/Copenhagen
BEGIN:STANDARD
DTSTART:20231029T020000
TZOFFSETFROM:+0200
TZOFFSETTO:+0100
TZNAME:CET
END:STANDARD
END:VTIMEZONE
END:VCALENDAR