BEGIN:VCALENDAR
VERSION:2.0
PRODID:-//wp-events-plugin.com//7.2.3.1//EN
TZID:Europe/Copenhagen
X-WR-TIMEZONE:Europe/Copenhagen
BEGIN:VEVENT
UID:131@isikkerhed.dk
DTSTART;TZID=Europe/Copenhagen:20261102T080000
DTEND;TZID=Europe/Copenhagen:20261106T170000
DTSTAMP:20250908T121905Z
URL:https://www.isikkerhed.dk/kursus/adr-sikkerhedsraadgiver-basiskursus-1
 1/
SUMMARY:ADR-sikkerhedsrådgiver basiskursus
DESCRIPTION:Kursusindhold\nDette kursus er til dig\, som endnu ikke er eksa
 mineret sikkerhedsrådgiver\, men ønsker den bedste forberedelse før du 
 skal op til ADR-sikkerhedsrådgivereksamenen. Vi gennemgår ADR-konvention
 en\, de nationale bestemmelser herunder sikkerhedsrådgiverbekendtgørelse
 n\, og alle eksamensbestemmelserne\, så du efter kurset er bedre rustet t
 il at bestå eksamen.\nForudsætninger\nKurset kræver godt kendskab til A
 DR-bestemmelserne\, og du skal være forberedt på nogle meget intensive o
 g teoretiske kursusdage!\nPris\nPrisen inkluderer alt kursusmateriale inkl
 usiv ADR-konventionen.\nBemærk\, at prisen ikke inkluderer eksamenstilmel
 ding eller overnatning. Giv besked\, hvis du ønsker overnatning på hotel
 let\, så ordner vi det.\nVarighed\nKurset er et intensivt 5-dages kursus.
 \nDeltagerantal\nMaksimalt deltagerantal per kursus er 12 personer.\nUnder
 visning\nDu bliver undervist af Torkil Hansen &amp\; Martin Egeskov Peders
 en.\nVi har indført mindste-normering\, så der altid vil være mindst é
 n 'pædagog' for hver 6 kursister.\nUndervisningen er en blanding af oplæ
 g og opgaveløsning. Vi gennemgår de seneste regelændringer\, og der er 
 mulighed for virkelighedstro ekstraopgaver både under og efter kurset.\nO
 vernatning\nDer er mulighed for overnatning med morgenmad og middag på ho
 tellet. Hvis du ønsker det\, kan vi enten booke det for dig (skriv da i k
 ommentarfeltet ved tilmelding\, hvilke nætter du ønsker og om det skal v
 ære med middag eller kun med morgenmad. Alternativt kan du bare kontakte 
 os efterfølgende\, hvis vi skal sørge for at booke det. Prisen er omkrin
 g 925\,- per overnatning inkl. morgenmad og middag) eller selv arrangere d
 et.\nEKSTRA tryghed\nPå opfordring tilbyder  vi nu yderligere to dages e
 kstra træning i forlængelse af basiskurset. Ved at afsætte to ekstra da
 ge lige op til eksamen får du endnu bedre chancer for at bestå. Udover d
 enne træning får du også tilbud om gratis deltagelse i næste kursus\, 
 såfremt du mod forventning skulle dumpe eksamen.  Du kan enten tilmelde 
 dig disse dage allerede nu\, eller undervejs i basiskurset. Læs mere og 
 tilmeld dig de ekstra dage her\nEksamen\nKursusprisen inkluderer IKKE tilm
 elding til Beredskabsstyrelsens eksamen!\nForretningsbetingelser\nKursusde
 ltagelse på åbne kurser kan afbestilles omkostningsfrit indtil 6 uger f
 ør planlagt kursusstart. Ved afbestilling senere end 6 uger før afholdel
 se betales 50 % af det for kurset fastsatte deltagergebyr. Ved afbestillin
 g senere end 2 uger før afholdelse betales 100 % af det for kurset fastsa
 tte deltagergebyr. Dog ydes der i sidstnævnte tilfælde 50 % rabat på ge
 nbestilling af det næstfølgende kursus af samme type og for samme deltag
 er. Ved udeblivelse fra kurset betales 100 % af det for kurset fastsatte d
 eltagergebyr.
ATTACH;FMTTYPE=image/jpeg:https://www.isikkerhed.dk/wp-content/uploads/201
 7/03/raadgivning-sikkerhedsraadgiver-1280x500.jpg
CATEGORIES:Sikkerhedsrådgiver (ADR)
LOCATION:Vejle\, Willy Sørensens Plads 3\, Vejle\, 7100\, Denmark
GEO:55.705734;9.518906
X-APPLE-STRUCTURED-LOCATION;VALUE=URI;X-ADDRESS=Willy Sørensens Plads 3\, 
 Vejle\, 7100\, Denmark;X-APPLE-RADIUS=100;X-TITLE=Vejle:geo:55.705734,9.51
 8906
END:VEVENT
BEGIN:VTIMEZONE
TZID:Europe/Copenhagen
X-LIC-LOCATION:Europe/Copenhagen
BEGIN:STANDARD
DTSTART:20261025T020000
TZOFFSETFROM:+0200
TZOFFSETTO:+0100
TZNAME:CET
END:STANDARD
END:VTIMEZONE
END:VCALENDAR